BEGIN:VCALENDAR
VERSION:2.0
PRODID:-//eventon.com NONSGML v1.0//EN
CALSCALE:GREGORIAN
METHOD:PUBLISH
BEGIN:VEVENT
UID:69e8ad3d3a28a
DTSTAMP:20260422T111301Z
DTSTART:20260425T215900Z
DTEND:20260426T040000Z
LOCATION:Uebel und Gefährlich | HAMBURG
SUMMARY:Ely Oaks & SKKIN VELVET
DESCRIPTION:Ely Oaks SKKIN VELVET  Kim Unstoppable\nhttps://www.theclubmap
 .com/events/ely-oaks-skkin-velvet/
URL:https://www.theclubmap.com/events/ely-oaks-skkin-velvet/
END:VEVENT
END:VCALENDAR