BEGIN:VCALENDAR
VERSION:2.0
PRODID:-//eventon.com NONSGML v1.0//EN
CALSCALE:GREGORIAN
METHOD:PUBLISH
BEGIN:VEVENT
UID:69eb23dcbd783
DTSTAMP:20260424T080340Z
DTSTART:20260425T210000Z
DTEND:20260426T070000Z
LOCATION:Club Frau Holle | HAMBURG
SUMMARY:PEAKED w/ MARC DEAL\,  GRÖNLAND EXPRESS\,  LEXPON\,  MELENDINA\,  Frank Leder
DESCRIPTION:MARC DEAL GRÖNLAND EXPRESS LEXPON MELENDINA Frank Leder\nhttps
 ://www.theclubmap.com/events/peaked-w-marc-deal-groenland-express-lexpon-me
 lendina-frank-leder/
URL:https://www.theclubmap.com/events/peaked-w-marc-deal-groenland-express-lexpon-melendina-frank-leder/
END:VEVENT
END:VCALENDAR