BEGIN:VCALENDAR
VERSION:2.0
PRODID:-//eventon.com NONSGML v1.0//EN
CALSCALE:GREGORIAN
METHOD:PUBLISH
BEGIN:VEVENT
UID:69e8ad4e4ed82
DTSTAMP:20260422T111318Z
DTSTART:20260425T200000Z
DTEND:20260426T040000Z
LOCATION:Hafenklang Club | HAMBURG
SUMMARY:Mash Up Di Bass w. Warlock
DESCRIPTION:Warlock  Bandulera  Der Vinylizer  Nassstya  Sarah Q  SHRH
  Usus\nhttps://www.theclubmap.com/events/mash-up-di-bass-w-warlock/
URL:https://www.theclubmap.com/events/mash-up-di-bass-w-warlock/
END:VEVENT
END:VCALENDAR