BEGIN:VCALENDAR
VERSION:2.0
PRODID:-//eventon.com NONSGML v1.0//EN
CALSCALE:GREGORIAN
METHOD:PUBLISH
BEGIN:VEVENT
UID:69e8ac6c9e951
DTSTAMP:20260422T110932Z
DTSTART:20260425T200000Z
DTEND:20260426T040000Z
LOCATION:Golden Pudel | HAMBURG
SUMMARY:Kann denn Liebe Synthie sein? with Katja Ruge\,  Richard Fearless
DESCRIPTION:Richard Fearless  Katja Ruge\nhttps://www.theclubmap.com/event
 s/kann-denn-liebe-synthie-sein-with-katja-ruge-richard-fearless/
URL:https://www.theclubmap.com/events/kann-denn-liebe-synthie-sein-with-katja-ruge-richard-fearless/
END:VEVENT
END:VCALENDAR