BEGIN:VCALENDAR
VERSION:2.0
PRODID:-//eventon.com NONSGML v1.0//EN
CALSCALE:GREGORIAN
METHOD:PUBLISH
BEGIN:VEVENT
UID:69e8aca6a8458
DTSTAMP:20260422T111030Z
DTSTART:20260425T210000Z
DTEND:20260426T060000Z
LOCATION:Südpol Club | HAMBURG
SUMMARY:Später war alles möglich
DESCRIPTION:V371X Chami b2b Olivia Mendez GRØMM\nhttps://www.theclubmap.co
 m/events/spaeter-war-alles-moeglich-3/
URL:https://www.theclubmap.com/events/spaeter-war-alles-moeglich-3/
END:VEVENT
END:VCALENDAR