BEGIN:VCALENDAR
VERSION:2.0
PRODID:-//eventon.com NONSGML v1.0//EN
CALSCALE:GREGORIAN
METHOD:PUBLISH
BEGIN:VEVENT
UID:69e8ac39d7c0f
DTSTAMP:20260422T110841Z
DTSTART:20260425T210000Z
DTEND:20260426T060000Z
LOCATION:La Cova | HAMBURG
SUMMARY:La Cova Loca
DESCRIPTION:DJ ANGEL (fr)  @RUN47 DŻAGA\nhttps://www.theclubmap.com/event
 s/la-cova-loca-6/
URL:https://www.theclubmap.com/events/la-cova-loca-6/
END:VEVENT
END:VCALENDAR