BEGIN:VCALENDAR
VERSION:2.0
PRODID:-//eventon.com NONSGML v1.0//EN
CALSCALE:GREGORIAN
METHOD:PUBLISH
BEGIN:VEVENT
UID:69eb33660d14c
DTSTAMP:20260424T090958Z
DTSTART:20260425T210000Z
DTEND:20260426T040000Z
LOCATION:Beat Boutique | HAMBURG
SUMMARY:MHH RESIDENT NIGHT
DESCRIPTION:OSK MORI PIPER Vektra ANDERER ENGEL\nhttps://www.theclubmap.com
 /events/mhh-resident-night/
URL:https://www.theclubmap.com/events/mhh-resident-night/
END:VEVENT
END:VCALENDAR