BEGIN:VCALENDAR
VERSION:2.0
PRODID:-//eventon.com NONSGML v1.0//EN
CALSCALE:GREGORIAN
METHOD:PUBLISH
BEGIN:VEVENT
UID:69e8ace4c44a6
DTSTAMP:20260422T111132Z
DTSTART:20260425T210000Z
DTEND:20260426T040000Z
LOCATION:Fundbureau | HAMBURG
SUMMARY:Sophie van Hayden // Randali // MARGO
DESCRIPTION:Randali Sophie van Hayden Margo (GER)\nhttps://www.theclubmap.c
 om/events/sophie-van-hayden-randali-margo/
URL:https://www.theclubmap.com/events/sophie-van-hayden-randali-margo/
END:VEVENT
END:VCALENDAR