BEGIN:VCALENDAR
VERSION:2.0
PRODID:-//eventon.com NONSGML v1.0//EN
CALSCALE:GREGORIAN
METHOD:PUBLISH
BEGIN:VEVENT
UID:69eb30248bd3a
DTSTAMP:20260424T085604Z
DTSTART:20260425T190000Z
DTEND:20260426T060000Z
LOCATION:TURTUR | HAMBURG
SUMMARY:Turtur Rave
DESCRIPTION:Rinush HOVR Foolik Jedi\nhttps://www.theclubmap.com/events/turt
 ur-rave/
URL:https://www.theclubmap.com/events/turtur-rave/
END:VEVENT
END:VCALENDAR