BEGIN:VCALENDAR
VERSION:2.0
PRODID:-//eventon.com NONSGML v1.0//EN
CALSCALE:GREGORIAN
METHOD:PUBLISH
BEGIN:VEVENT
UID:69eb23fb8548a
DTSTAMP:20260424T080411Z
DTSTART:20260425T190000Z
DTEND:20260426T020000Z
LOCATION:Beek | HAMBURG
SUMMARY:Beek - Officine\,  Donna Haringwey\,  Jena Jang\,  Scheich in China
DESCRIPTION:Officine Donna Haringwey Jena Jang Scheich in China\nhttps://ww
 w.theclubmap.com/events/beek-officine-donna-haringwey-jena-jang-scheich-in-
 china/
URL:https://www.theclubmap.com/events/beek-officine-donna-haringwey-jena-jang-scheich-in-china/
END:VEVENT
END:VCALENDAR