BEGIN:VCALENDAR
VERSION:2.0
PRODID:-//eventon.com NONSGML v1.0//EN
CALSCALE:GREGORIAN
METHOD:PUBLISH
BEGIN:VEVENT
UID:69e8add58dfd4
DTSTAMP:20260422T111533Z
DTSTART:20260425T210000Z
DTEND:20260426T040000Z
LOCATION:YOTO Hamburg
SUMMARY:YOTO x Shari Who & NEAF
DESCRIPTION:Shari Who  NEAF\nhttps://www.theclubmap.com/events/yoto-x-shar
 i-who-neaf-2/
URL:https://www.theclubmap.com/events/yoto-x-shari-who-neaf-2/
END:VEVENT
END:VCALENDAR