BEGIN:VCALENDAR
VERSION:2.0
PRODID:-//eventon.com NONSGML v1.0//EN
CALSCALE:GREGORIAN
METHOD:PUBLISH
BEGIN:VEVENT
UID:69e8ac8bb9704
DTSTAMP:20260422T111003Z
DTSTART:20260425T170000Z
DTEND:20260425T180000Z
LOCATION:Kampnagel | HAMBURG
SUMMARY:EMMA FRANKLAND No Apologies – Band-Version
DESCRIPTION:Emma Frankland\nhttps://www.theclubmap.com/events/emma-franklan
 d-no-apologies-band-version/
URL:https://www.theclubmap.com/events/emma-frankland-no-apologies-band-version/
END:VEVENT
END:VCALENDAR