BEGIN:VCALENDAR
VERSION:2.0
PRODID:-//eventon.com NONSGML v1.0//EN
CALSCALE:GREGORIAN
METHOD:PUBLISH
BEGIN:VEVENT
UID:69e8ac56e018d
DTSTAMP:20260422T110910Z
DTSTART:20260425T190000Z
DTEND:20260425T230000Z
LOCATION:Lilli Escher | HAMBURG
SUMMARY:MHP
DESCRIPTION:MHP\nhttps://www.theclubmap.com/events/mhp/
URL:https://www.theclubmap.com/events/mhp/
END:VEVENT
END:VCALENDAR