BEGIN:VCALENDAR
VERSION:2.0
PRODID:-//eventon.com NONSGML v1.0//EN
CALSCALE:GREGORIAN
METHOD:PUBLISH
BEGIN:VEVENT
UID:69eb22a38a6d5
DTSTAMP:20260424T075827Z
DTSTART:20260425T200000Z
DTEND:20260426T020000Z
LOCATION:Kampnagel | HAMBURG
SUMMARY:TRANSTRONICA 2026 Transmissions
DESCRIPTION:22.00 Uhr Rosalíe (live concert) 23.00 Uhr Janis with band (li
 ve concert) 0.00 Uhr Saeleen Bouvar (DJ set) 01.30 Uhr JAARA (DJ set) 03.00
  Uhr Mine Pleasure Bouvar\nhttps://www.theclubmap.com/events/transtronica-2
 026-transmissions-2/
URL:https://www.theclubmap.com/events/transtronica-2026-transmissions-2/
END:VEVENT
END:VCALENDAR