BEGIN:VCALENDAR
VERSION:2.0
PRODID:-//eventon.com NONSGML v1.0//EN
CALSCALE:GREGORIAN
METHOD:PUBLISH
BEGIN:VEVENT
UID:69e8ac30727ca
DTSTAMP:20260422T110832Z
DTSTART:20260426T080000Z
DTEND:20260426T200000Z
LOCATION:Hafenklang Club | HAMBURG
SUMMARY:We R The Aliens & Friends
DESCRIPTION:Dana Ruh  Sammy Dee  Bardia Salour  Taisy  A.B.U.  Joël R
 uck  MELINA (3)  Jakob Seidensticker\nhttps://www.theclubmap.com/events/w
 e-r-the-aliens-friends-2/
URL:https://www.theclubmap.com/events/we-r-the-aliens-friends-2/
END:VEVENT
END:VCALENDAR