BEGIN:VCALENDAR
VERSION:2.0
PRODID:-//eventon.com NONSGML v1.0//EN
CALSCALE:GREGORIAN
METHOD:PUBLISH
BEGIN:VEVENT
UID:69e8ac6c8d03a
DTSTAMP:20260422T110932Z
DTSTART:20260426T190000Z
DTEND:20260427T010000Z
LOCATION:Golden Pudel | HAMBURG
SUMMARY:Das Ohr zum Sonntag 06: Ehua
DESCRIPTION:Ehua  Shimmy Robin  yamyam\nhttps://www.theclubmap.com/events
 /das-ohr-zum-sonntag-06-ehua/
URL:https://www.theclubmap.com/events/das-ohr-zum-sonntag-06-ehua/
END:VEVENT
END:VCALENDAR