BEGIN:VCALENDAR
VERSION:2.0
PRODID:-//eventon.com NONSGML v1.0//EN
CALSCALE:GREGORIAN
METHOD:PUBLISH
BEGIN:VEVENT
UID:69e8ac8bb8220
DTSTAMP:20260422T111003Z
DTSTART:20260426T130000Z
DTEND:20260426T215900Z
LOCATION:Baalsaal | HAMBURG
SUMMARY:ANKERBALL
DESCRIPTION:AFTERHOUR\nhttps://www.theclubmap.com/events/ankerball/
URL:https://www.theclubmap.com/events/ankerball/
END:VEVENT
END:VCALENDAR