BEGIN:VCALENDAR
VERSION:2.0
PRODID:-//eventon.com NONSGML v1.0//EN
CALSCALE:GREGORIAN
METHOD:PUBLISH
BEGIN:VEVENT
UID:69e8aca6a809c
DTSTAMP:20260422T111030Z
DTSTART:20260426T110000Z
DTEND:20260426T190000Z
LOCATION:TURTUR | HAMBURG
SUMMARY:Whitenoise Listening Sessions
DESCRIPTION:Danica Hobden\,  Melanie Streitmatter\,  Lennart Micheel &#038;
  Matteo Stefani\nhttps://www.theclubmap.com/events/whitenoise-listening-ses
 sions/
URL:https://www.theclubmap.com/events/whitenoise-listening-sessions/
END:VEVENT
END:VCALENDAR