BEGIN:VCALENDAR
VERSION:2.0
PRODID:-//eventon.com NONSGML v1.0//EN
CALSCALE:GREGORIAN
METHOD:PUBLISH
BEGIN:VEVENT
UID:69eb23b345492
DTSTAMP:20260424T080259Z
DTSTART:20260424T210000Z
DTEND:20260425T060000Z
LOCATION:BLITZ Club | MÜNCHEN
SUMMARY:QEONE with CEM\,  CCL\,  COLA REN\,  Polygonia\,  YYARD
DESCRIPTION:BLITZ CEM [Herrensauna] CCL [Subglow] COLA REN [QEONE] Polygoni
 a [QEONE] YYARD [QEONE]\nhttps://www.theclubmap.com/events/qeone-with-cem-c
 cl-cola-ren-polygonia-yyard/
URL:https://www.theclubmap.com/events/qeone-with-cem-ccl-cola-ren-polygonia-yyard/
END:VEVENT
END:VCALENDAR