BEGIN:VCALENDAR
VERSION:2.0
PRODID:-//eventon.com NONSGML v1.0//EN
CALSCALE:GREGORIAN
METHOD:PUBLISH
BEGIN:VEVENT
UID:69e87c11590b1
DTSTAMP:20260422T074313Z
DTSTART:20260424T210000Z
DTEND:20260425T060000Z
LOCATION:Rote Sonne | MÜNCHEN
SUMMARY:Rote Sonne x CT x UF
DESCRIPTION:Adou Cymen Mara Menace  VSSL\nhttps://www.theclubmap.com/event
 s/rote-sonne-x-ct-x-uf/
URL:https://www.theclubmap.com/events/rote-sonne-x-ct-x-uf/
END:VEVENT
END:VCALENDAR