BEGIN:VCALENDAR
VERSION:2.0
PRODID:-//eventon.com NONSGML v1.0//EN
CALSCALE:GREGORIAN
METHOD:PUBLISH
BEGIN:VEVENT
UID:69e87d75df35a
DTSTAMP:20260422T074909Z
DTSTART:20260424T200000Z
DTEND:20260425T040000Z
LOCATION:BahnwÃ¤rter Thiel | MÃœNCHEN
SUMMARY:Mystic Creatures Festival x BahnwÃ¤rter Thiel mit Horst Haller
DESCRIPTION:Elias Goldmund [Mystic Creatures / Berlin] Helene [Gewaechshous
 e / MÃ¼nchen] Horst Haller [Rebellion der TrÃ¤umer* / Berlin] Merlin du PrÃ
 © [Wannda / MÃ¼nchen] Naicet [Mystic Creatures\,  44 Hertz / Berlin]\nhttps
 ://www.theclubmap.com/events/mystic-creatures-festival-x-bahnwaerter-thiel-
 mit-horst-haller/
URL:https://www.theclubmap.com/events/mystic-creatures-festival-x-bahnwaerter-thiel-mit-horst-haller/
END:VEVENT
END:VCALENDAR