BEGIN:VCALENDAR
VERSION:2.0
PRODID:-//eventon.com NONSGML v1.0//EN
CALSCALE:GREGORIAN
METHOD:PUBLISH
BEGIN:VEVENT
UID:69e87dc122e1d
DTSTAMP:20260422T075025Z
DTSTART:20260424T140000Z
DTEND:20260424T200000Z
LOCATION:Haus der Kunst | MÜNCHEN
SUMMARY:Public Possession BONUS - Haus der Kunst Open Haus
DESCRIPTION:Public Possession\nhttps://www.theclubmap.com/events/public-pos
 session-bonus-haus-der-kunst-open-haus/
URL:https://www.theclubmap.com/events/public-possession-bonus-haus-der-kunst-open-haus/
END:VEVENT
END:VCALENDAR