BEGIN:VCALENDAR
VERSION:2.0
PRODID:-//eventon.com NONSGML v1.0//EN
CALSCALE:GREGORIAN
METHOD:PUBLISH
BEGIN:VEVENT
UID:69e87c1162dee
DTSTAMP:20260422T074313Z
DTSTART:20260424T210000Z
DTEND:20260425T030000Z
LOCATION:Goldener Reiter | MÜNCHEN
SUMMARY:Antenne Geyer with Maggie Jane\,  Samo\,  Benni B b2b Spinneck\,  Inspektor Lenny
DESCRIPTION:Maggie Jane  Samo Benni B  Spinneck  Inspektor Lenny (2)\nht
 tps://www.theclubmap.com/events/antenne-geyer-with-maggie-jane-samo-benni-b
 -b2b-spinneck-inspektor-lenny/
URL:https://www.theclubmap.com/events/antenne-geyer-with-maggie-jane-samo-benni-b-b2b-spinneck-inspektor-lenny/
END:VEVENT
END:VCALENDAR