BEGIN:VCALENDAR
VERSION:2.0
PRODID:-//eventon.com NONSGML v1.0//EN
CALSCALE:GREGORIAN
METHOD:PUBLISH
BEGIN:VEVENT
UID:69e87fc215cff
DTSTAMP:20260422T075858Z
DTSTART:20260424T210000Z
DTEND:20260425T040000Z
LOCATION:DNA Club | MUNCHEN
SUMMARY:Antonym\,  TWO GIRLS ONE MOM\,  GIØ
DESCRIPTION:Antonym\,  GIØ (1)\,  TWO GIRLS ONE MOM\nhttps://www.theclubma
 p.com/events/antonym-two-girls-one-mom-gio/
URL:https://www.theclubmap.com/events/antonym-two-girls-one-mom-gio/
END:VEVENT
END:VCALENDAR