BEGIN:VCALENDAR
VERSION:2.0
PRODID:-//eventon.com NONSGML v1.0//EN
CALSCALE:GREGORIAN
METHOD:PUBLISH
BEGIN:VEVENT
UID:69eb23b3456c8
DTSTAMP:20260424T080259Z
DTSTART:20260424T210000Z
DTEND:20260425T040000Z
LOCATION:Legal | MÜNCHEN
SUMMARY:Legal x ICONIC w./ Easttown\,  julës jay\,  Leeb\,  Nesi\,  Baro & Dolce Vita
DESCRIPTION:Club: Easttown [hot creations/cécille] julës jay [8bit/ICONIC
 ] Leeb (2) [ICONIC] Nesi [Mood Child] Bar: Baro Dolce Vita (2)\nhttps://www
 .theclubmap.com/events/legal-x-iconic-w-easttown-jules-jay-leeb-nesi-baro-d
 olce-vita/
URL:https://www.theclubmap.com/events/legal-x-iconic-w-easttown-jules-jay-leeb-nesi-baro-dolce-vita/
END:VEVENT
END:VCALENDAR