BEGIN:VCALENDAR
VERSION:2.0
PRODID:-//eventon.com NONSGML v1.0//EN
CALSCALE:GREGORIAN
METHOD:PUBLISH
BEGIN:VEVENT
UID:69e87ca69dc6f
DTSTAMP:20260422T074542Z
DTSTART:20260424T200000Z
DTEND:20260425T020000Z
LOCATION:Unter Deck | MÜNCHEN
SUMMARY:Unter Deck w/ Julie Fleischer & Shree
DESCRIPTION:Julie Fleischer &#038; Shree\nhttps://www.theclubmap.com/events
 /unter-deck-w-julie-fleischer-shree/
URL:https://www.theclubmap.com/events/unter-deck-w-julie-fleischer-shree/
END:VEVENT
END:VCALENDAR