BEGIN:VCALENDAR
VERSION:2.0
PRODID:-//eventon.com NONSGML v1.0//EN
CALSCALE:GREGORIAN
METHOD:PUBLISH
BEGIN:VEVENT
UID:69e87d87c1fbd
DTSTAMP:20260422T074927Z
DTSTART:20260424T203000Z
DTEND:20260425T020000Z
LOCATION:LIVE EVIL | MUNICH
SUMMARY:Turkish Pop Night Vol. 6 by Kaset
DESCRIPTION:tba\nhttps://www.theclubmap.com/events/turkish-pop-night-vol-6-
 by-kaset/
URL:https://www.theclubmap.com/events/turkish-pop-night-vol-6-by-kaset/
END:VEVENT
END:VCALENDAR