BEGIN:VCALENDAR
VERSION:2.0
PRODID:-//eventon.com NONSGML v1.0//EN
CALSCALE:GREGORIAN
METHOD:PUBLISH
BEGIN:VEVENT
UID:69e87dc0a3394
DTSTAMP:20260422T075024Z
DTSTART:20260425T210000Z
DTEND:20260426T040000Z
LOCATION:Goldener Reiter | MÜNCHEN
SUMMARY:STUDIO 69 w/ Mell G\,  DJ Business\,  Wall Ra
DESCRIPTION:DJ MELL G  DJ Business (2) Wall Ra\nhttps://www.theclubmap.com
 /events/studio-69-w-mell-g-dj-business-wall-ra/
URL:https://www.theclubmap.com/events/studio-69-w-mell-g-dj-business-wall-ra/
END:VEVENT
END:VCALENDAR