BEGIN:VCALENDAR
VERSION:2.0
PRODID:-//eventon.com NONSGML v1.0//EN
CALSCALE:GREGORIAN
METHOD:PUBLISH
BEGIN:VEVENT
UID:69e87d3942aee
DTSTAMP:20260422T074809Z
DTSTART:20260425T210000Z
DTEND:20260426T060000Z
LOCATION:BLITZ Club | MÜNCHEN
SUMMARY:Seth Troxler pres. Slacker 85. w/ Acid Ted\,  Krystal Klear\,  Magda\,  Seth Troxler
DESCRIPTION:BLITZ Acid Ted Krystal Klear  Magda  Seth Troxler\nhttps://ww
 w.theclubmap.com/events/seth-troxler-pres-slacker-85-w-acid-ted-krystal-kle
 ar-magda-seth-troxler/
URL:https://www.theclubmap.com/events/seth-troxler-pres-slacker-85-w-acid-ted-krystal-klear-magda-seth-troxler/
END:VEVENT
END:VCALENDAR