BEGIN:VCALENDAR
VERSION:2.0
PRODID:-//eventon.com NONSGML v1.0//EN
CALSCALE:GREGORIAN
METHOD:PUBLISH
BEGIN:VEVENT
UID:69e87c11dc62b
DTSTAMP:20260422T074313Z
DTSTART:20260425T210000Z
DTEND:20260426T040000Z
LOCATION:DNA Club | MUNCHEN
SUMMARY:Ueberrest\,  RIKHTER\,  Towicz
DESCRIPTION:Ueberrest\,  RIKHTER\,  Towicz\nhttps://www.theclubmap.com/even
 ts/ueberrest-rikhter-towicz/
URL:https://www.theclubmap.com/events/ueberrest-rikhter-towicz/
END:VEVENT
END:VCALENDAR