BEGIN:VCALENDAR
VERSION:2.0
PRODID:-//eventon.com NONSGML v1.0//EN
CALSCALE:GREGORIAN
METHOD:PUBLISH
BEGIN:VEVENT
UID:69e87ddf67ab1
DTSTAMP:20260422T075055Z
DTSTART:20260425T200000Z
DTEND:20260426T050000Z
LOCATION:Legal | MÜNCHEN
SUMMARY:Legal TAKEOVER: HOTSTUFF x SHOCKWERK
DESCRIPTION:Club: Chet Rubbs [Hotstuff] DJ Floppy Disk [Shockwerk/LEGAL] Ef
 au [Hotstuff] Goiaba [Hotstuff] Lex [Shockwerk] Tino Lachauer [Shockwerk] B
 ar: Sonic Vibration DJ`s\nhttps://www.theclubmap.com/events/legal-takeover-
 hotstuff-x-shockwerk/
URL:https://www.theclubmap.com/events/legal-takeover-hotstuff-x-shockwerk/
END:VEVENT
END:VCALENDAR