BEGIN:VCALENDAR
VERSION:2.0
PRODID:-//eventon.com NONSGML v1.0//EN
CALSCALE:GREGORIAN
METHOD:PUBLISH
BEGIN:VEVENT
UID:69e87ca699f9a
DTSTAMP:20260422T074542Z
DTSTART:20260425T210000Z
DTEND:20260426T030000Z
LOCATION:Charlie | MÜNCHEN
SUMMARY:next stop the top with HYTOP sessions Severino b/w Manuel Kim
DESCRIPTION:Severino  Manuel Kim\nhttps://www.theclubmap.com/events/next-s
 top-the-top-with-hytop-sessions-severino-b-w-manuel-kim/
URL:https://www.theclubmap.com/events/next-stop-the-top-with-hytop-sessions-severino-b-w-manuel-kim/
END:VEVENT
END:VCALENDAR