BEGIN:VCALENDAR
VERSION:2.0
PRODID:-//eventon.com NONSGML v1.0//EN
CALSCALE:GREGORIAN
METHOD:PUBLISH
BEGIN:VEVENT
UID:69e87d6697ba1
DTSTAMP:20260422T074854Z
DTSTART:20260425T120000Z
DTEND:20260426T040000Z
LOCATION:BahnwÃ¤rter Thiel | MÃœNCHEN
SUMMARY:Geburtstagstandem â€“ Open Air & Club mit Susi & Paula |Â BahnwÃ¤rter Thiel
DESCRIPTION:Diana Montana [Soundsalon / MÃ¼nchen] Faulchen FÃ¤nther [BahnwÃ
 ¤rter Thiel\,  Wannda / MÃ¼nchen] Jawwa [BahnwÃ¤rter Thiel / MÃ¼nchen] juno
 ia [MitDir Festival / Berlin] Kerry Gold [Hecklastig / MÃ¼nchen] Louisianah
 a [CLBZZ / MÃ¼nchen] Patrone [Soundsalon / MÃ¼nchen] SILSAN [BahnwÃ¤rter Th
 iel\,  Codex\,  Subios /MÃ¼nchen] Susi&#038;PaulaÂ [Crewport\,  Petrified P
 hoenix / Hamburg] Tala Berg [BahnwÃ¤rter Thiel[..]\nhttps://www.theclubmap.
 com/events/geburtstagstandem-open-air-club-mit-susi-paula-bahnwaerter-thiel
 /
URL:https://www.theclubmap.com/events/geburtstagstandem-open-air-club-mit-susi-paula-bahnwaerter-thiel/
END:VEVENT
END:VCALENDAR