BEGIN:VCALENDAR
VERSION:2.0
PRODID:-//eventon.com NONSGML v1.0//EN
CALSCALE:GREGORIAN
METHOD:PUBLISH
BEGIN:VEVENT
UID:69e87c1c44673
DTSTAMP:20260422T074324Z
DTSTART:20260425T210000Z
DTEND:20260426T050000Z
LOCATION:Legal | MÜNCHEN
SUMMARY:shockwerk x hotstuff
DESCRIPTION:Tino Machauer \,  Chet Rubbs \,  Goiaba \,  lex_shockwerk \
 ,  DJ Floppy Disk \,  Efau \,  Bernd Affleck\nhttps://www.theclubmap.com/ev
 ents/shockwerk-x-hotstuff/
URL:https://www.theclubmap.com/events/shockwerk-x-hotstuff/
END:VEVENT
END:VCALENDAR