BEGIN:VCALENDAR
VERSION:2.0
PRODID:-//eventon.com NONSGML v1.0//EN
CALSCALE:GREGORIAN
METHOD:PUBLISH
BEGIN:VEVENT
UID:69e87bb99d4f1
DTSTAMP:20260422T074145Z
DTSTART:20260425T210000Z
DTEND:20260426T060000Z
LOCATION:Rote Sonne | MÜNCHEN
SUMMARY:Rote Sonne pres
DESCRIPTION:Alec Dienaar  Rosan  TineX\nhttps://www.theclubmap.com/events
 /rote-sonne-pres-3/
URL:https://www.theclubmap.com/events/rote-sonne-pres-3/
END:VEVENT
END:VCALENDAR