BEGIN:VCALENDAR
VERSION:2.0
PRODID:-//eventon.com NONSGML v1.0//EN
CALSCALE:GREGORIAN
METHOD:PUBLISH
BEGIN:VEVENT
UID:69e87c68b27b1
DTSTAMP:20260422T074440Z
DTSTART:20260425T120000Z
DTEND:20260426T040000Z
LOCATION:Lieberscholli | MUNCHEN
SUMMARY:1 Jahr KlubRomantik OPEN AIR & INDOOR (Limited 5€ Tickets available now)
DESCRIPTION:DJ Cringey  DJ Räucherlaks  Jan Minnerup O/H/M  LAZÚR NIKU
 SH DJ Yugo Emby ARTIFEX\nhttps://www.theclubmap.com/events/1-jahr-klubroman
 tik-open-air-indoor-limited-5e-tickets-available-now/
URL:https://www.theclubmap.com/events/1-jahr-klubromantik-open-air-indoor-limited-5e-tickets-available-now/
END:VEVENT
END:VCALENDAR