BEGIN:VCALENDAR
VERSION:2.0
PRODID:-//eventon.com NONSGML v1.0//EN
CALSCALE:GREGORIAN
METHOD:PUBLISH
BEGIN:VEVENT
UID:69eb68c746ead
DTSTAMP:20260424T125743Z
DTSTART:20260424T210000Z
DTEND:20260425T050000Z
LOCATION:Elektroküche | KÖLN
SUMMARY:Schranz Only W/ Arkus P. & Lowerzone
DESCRIPTION:Arkus P. Lowerzone Hectic Esther Ropemaker\nhttps://www.theclub
 map.com/events/schranz-only-w-arkus-p-lowerzone/
URL:https://www.theclubmap.com/events/schranz-only-w-arkus-p-lowerzone/
END:VEVENT
END:VCALENDAR