BEGIN:VCALENDAR
VERSION:2.0
PRODID:-//eventon.com NONSGML v1.0//EN
CALSCALE:GREGORIAN
METHOD:PUBLISH
BEGIN:VEVENT
UID:69eb67f883f47
DTSTAMP:20260424T125416Z
DTSTART:20260424T210000Z
DTEND:20260425T040000Z
LOCATION:Artheater | KÖLN
SUMMARY:303 presents Stan Christ
DESCRIPTION:Stan Christ I.AM.HMM Rosilicious\nhttps://www.theclubmap.com/ev
 ents/303-presents-stan-christ/
URL:https://www.theclubmap.com/events/303-presents-stan-christ/
END:VEVENT
END:VCALENDAR