BEGIN:VCALENDAR
VERSION:2.0
PRODID:-//eventon.com NONSGML v1.0//EN
CALSCALE:GREGORIAN
METHOD:PUBLISH
BEGIN:VEVENT
UID:69eb6882bdff3
DTSTAMP:20260424T125634Z
DTSTART:20260424T210000Z
DTEND:20260425T060000Z
LOCATION:Odonien | KÖLN
SUMMARY:Einmusik in Odonien
DESCRIPTION:Einmusik\,  Fabian Laute\,  Max Blumen\,  Apropos\,  PHI\,  Jul
 ep|z\,  Steffi Storno\,  Vibe und Viper\,  PHIL GOOD und Piti.\nhttps://www
 .theclubmap.com/events/einmusik-in-odonien/
URL:https://www.theclubmap.com/events/einmusik-in-odonien/
END:VEVENT
END:VCALENDAR