BEGIN:VCALENDAR
VERSION:2.0
PRODID:-//eventon.com NONSGML v1.0//EN
CALSCALE:GREGORIAN
METHOD:PUBLISH
BEGIN:VEVENT
UID:69eb67e9b7cac
DTSTAMP:20260424T125401Z
DTSTART:20260424T210000Z
DTEND:20260425T040000Z
LOCATION:Gewölbe | KÖLN
SUMMARY:rau.ton with Eva Mo\,  Marco Hilbert\,  Temudo
DESCRIPTION:Eva Mo Marco Hilbert (2)  Temudo\nhttps://www.theclubmap.com/e
 vents/rau-ton-with-eva-mo-marco-hilbert-temudo/
URL:https://www.theclubmap.com/events/rau-ton-with-eva-mo-marco-hilbert-temudo/
END:VEVENT
END:VCALENDAR