BEGIN:VCALENDAR
VERSION:2.0
PRODID:-//eventon.com NONSGML v1.0//EN
CALSCALE:GREGORIAN
METHOD:PUBLISH
BEGIN:VEVENT
UID:69eb67f884079
DTSTAMP:20260424T125416Z
DTSTART:20260424T210000Z
DTEND:20260425T040000Z
LOCATION:Garagen Club | KÖLN
SUMMARY:Sunny's Boiler Room Garagen Club Köln
DESCRIPTION:DJ Discostoff  DJ SODBRENNEN  PANACOTTA\nhttps://www.theclubm
 ap.com/events/sunnys-boiler-room-garagen-club-koeln/
URL:https://www.theclubmap.com/events/sunnys-boiler-room-garagen-club-koeln/
END:VEVENT
END:VCALENDAR