BEGIN:VCALENDAR
VERSION:2.0
PRODID:-//eventon.com NONSGML v1.0//EN
CALSCALE:GREGORIAN
METHOD:PUBLISH
BEGIN:VEVENT
UID:69eb67ceb17e5
DTSTAMP:20260424T125334Z
DTSTART:20260424T170000Z
DTEND:20260424T210000Z
LOCATION:YUCA Club | KÖLN
SUMMARY:TELYKAST
DESCRIPTION:TELYKAST Mark Roma\nhttps://www.theclubmap.com/events/telykast/
URL:https://www.theclubmap.com/events/telykast/
END:VEVENT
END:VCALENDAR