BEGIN:VCALENDAR
VERSION:2.0
PRODID:-//eventon.com NONSGML v1.0//EN
CALSCALE:GREGORIAN
METHOD:PUBLISH
BEGIN:VEVENT
UID:69eb68cc95e05
DTSTAMP:20260424T125748Z
DTSTART:20260424T213000Z
DTEND:20260425T030000Z
LOCATION:Jaki | KÖLN
SUMMARY:Lekker - Label Night
DESCRIPTION:Lekker Records @Jeremy Reinhard @Freydel @Nic Lorenz @Eszter\nh
 ttps://www.theclubmap.com/events/lekker-label-night/
URL:https://www.theclubmap.com/events/lekker-label-night/
END:VEVENT
END:VCALENDAR