BEGIN:VCALENDAR
VERSION:2.0
PRODID:-//eventon.com NONSGML v1.0//EN
CALSCALE:GREGORIAN
METHOD:PUBLISH
BEGIN:VEVENT
UID:69eb6913a83ce
DTSTAMP:20260424T125859Z
DTSTART:20260425T210000Z
DTEND:20260426T040000Z
LOCATION:Schrotty | KÖLN
SUMMARY:Wyldhearts Springbreaker
DESCRIPTION:tba\nhttps://www.theclubmap.com/events/wyldhearts-springbreaker
 /
URL:https://www.theclubmap.com/events/wyldhearts-springbreaker/
END:VEVENT
END:VCALENDAR