BEGIN:VCALENDAR
VERSION:2.0
PRODID:-//eventon.com NONSGML v1.0//EN
CALSCALE:GREGORIAN
METHOD:PUBLISH
BEGIN:VEVENT
UID:69eb69b3a968b
DTSTAMP:20260424T130139Z
DTSTART:20260425T100000Z
DTEND:20260425T200000Z
LOCATION:Bootshaus | KÖLN
SUMMARY:PollerWiesen Opening 2026
DESCRIPTION:DJ Frank dj sweet6teen KUKO b2b Johannes Schuster Marie Montex
 ier b2b Quest Mischluft  Serafina b2b Somewhen E.P.I.Q. invites SLIC Uni
 t  AMSL Anna Cainelli Nikity Nissa Carrington piush Savsannah Sedaction yu
 ng_womb\nhttps://www.theclubmap.com/events/pollerwiesen-opening-2026/
URL:https://www.theclubmap.com/events/pollerwiesen-opening-2026/
END:VEVENT
END:VCALENDAR