BEGIN:VCALENDAR
VERSION:2.0
PRODID:-//eventon.com NONSGML v1.0//EN
CALSCALE:GREGORIAN
METHOD:PUBLISH
BEGIN:VEVENT
UID:69eb683620cee
DTSTAMP:20260424T125518Z
DTSTART:20260425T200000Z
DTEND:20260426T040000Z
LOCATION:Bootshaus | KÖLN
SUMMARY:PollerWiesen Opening 2026 Night (Bootshaus)
DESCRIPTION:Serafina  Johannes Schuster  Redfocks b2b SATYS FYRE  Gusta
 v Ørgano Arninho  DJ Palga  DJ SPORTSCHUH Vagabund E.P.I.Q. invites SLIC
  Unit: AMSL  Anna Cainelli  Nikity  Nissa Carrington  piush Savsannah 
  Sedaction  yung_womb\nhttps://www.theclubmap.com/events/pollerwiesen-open
 ing-2026-night-bootshaus/
URL:https://www.theclubmap.com/events/pollerwiesen-opening-2026-night-bootshaus/
END:VEVENT
END:VCALENDAR