BEGIN:VCALENDAR
VERSION:2.0
PRODID:-//eventon.com NONSGML v1.0//EN
CALSCALE:GREGORIAN
METHOD:PUBLISH
BEGIN:VEVENT
UID:69eb6656345a0
DTSTAMP:20260424T124718Z
DTSTART:20260425T210000Z
DTEND:20260426T050000Z
LOCATION:Helios37 | KÖLN
SUMMARY:AESTHETIC w. CALLUSH\,  In Furcht & many more
DESCRIPTION:ARRAX CALLUSH  DAESU  Daniel Noah  In Furcht  LSG OSKAMAXX 
 RØM\nhttps://www.theclubmap.com/events/aesthetic-w-callush-in-furcht-many-
 more/
URL:https://www.theclubmap.com/events/aesthetic-w-callush-in-furcht-many-more/
END:VEVENT
END:VCALENDAR