BEGIN:VCALENDAR
VERSION:2.0
PRODID:-//eventon.com NONSGML v1.0//EN
CALSCALE:GREGORIAN
METHOD:PUBLISH
BEGIN:VEVENT
UID:69eb6a9cd1e1e
DTSTAMP:20260424T130532Z
DTSTART:20260425T210000Z
DTEND:20260426T040000Z
LOCATION:Gewölbe | KÖLN
SUMMARY:Klubnacht with Dubfire\,  Marcel Janovsky
DESCRIPTION:Dubfire  Marcel Janovsky\nhttps://www.theclubmap.com/events/kl
 ubnacht-with-dubfire-marcel-janovsky/
URL:https://www.theclubmap.com/events/klubnacht-with-dubfire-marcel-janovsky/
END:VEVENT
END:VCALENDAR