BEGIN:VCALENDAR
VERSION:2.0
PRODID:-//eventon.com NONSGML v1.0//EN
CALSCALE:GREGORIAN
METHOD:PUBLISH
BEGIN:VEVENT
UID:69eb6695767a1
DTSTAMP:20260424T124821Z
DTSTART:20260425T213000Z
DTEND:20260426T030000Z
LOCATION:Jaki | KÖLN
SUMMARY:Tom-Tom Discotec presents Disco Allianz Köln
DESCRIPTION:Disco Allianz Henning Lichtenberg Asal  Karsten Stehen\nhttps:
 //www.theclubmap.com/events/tom-tom-discotec-presents-disco-allianz-koeln-3
 /
URL:https://www.theclubmap.com/events/tom-tom-discotec-presents-disco-allianz-koeln-3/
END:VEVENT
END:VCALENDAR