BEGIN:VCALENDAR
VERSION:2.0
PRODID:-//eventon.com NONSGML v1.0//EN
CALSCALE:GREGORIAN
METHOD:PUBLISH
BEGIN:VEVENT
UID:69eb4890c264d
DTSTAMP:20260424T104016Z
DTSTART:20260424T210000Z
DTEND:20260425T030000Z
LOCATION:Elfer | FRANKFURT
SUMMARY:Standby Session Vol.03
DESCRIPTION:Ben Derris CiZ DJ Uludag Peggy\nhttps://www.theclubmap.com/even
 ts/standby-session-vol-03/
URL:https://www.theclubmap.com/events/standby-session-vol-03/
END:VEVENT
END:VCALENDAR